 BEGIN:VCALENDAR
VERSION:1.0
PRODID:SSPCA Web Calendar
TZ:-07
BEGIN:VEVENT
ORGANIZER:MAILTO: flora.chan@hongkong.messefrankfurt.com;cherry.cheung@hongkong.messefrankfurt.com
SUMMARY;ENCODING=QUOTED-PRINTABLE: Automechanika Shanghai 2020
LOCATION;ENCODING=QUOTED-PRINTABLE: Shanghai
DESCRIPTION;ENCODING=QUOTED-PRINTABLE: More Details£º=0D=0Ahttp://www.chinaexhibition.com/trade_events/10097-Automechanika_Shanghai_2020.html
DTSTART:20201202T000000Z 
DTEND:20201205T000000Z 
END:VEVENT
END:VCALENDAR