 BEGIN:VCALENDAR
VERSION:1.0
PRODID:SSPCA Web Calendar
TZ:-07
BEGIN:VEVENT
ORGANIZER:MAILTO: metalform@china-metalform.com ;exhibition@chinaforge.org.cn
SUMMARY;ENCODING=QUOTED-PRINTABLE: MetalComp China 2020
LOCATION;ENCODING=QUOTED-PRINTABLE: Beijing
DESCRIPTION;ENCODING=QUOTED-PRINTABLE: More Details£º=0D=0Ahttp://www.chinaexhibition.com/trade_events/10077-MetalComp_China_2020.html
DTSTART:20201117T000000Z 
DTEND:20201120T000000Z 
END:VEVENT
END:VCALENDAR