 BEGIN:VCALENDAR
VERSION:1.0
PRODID:SSPCA Web Calendar
TZ:-07
BEGIN:VEVENT
ORGANIZER:MAILTO: sales7@grandeurhk.com;grand.xi@grahw.com
SUMMARY;ENCODING=QUOTED-PRINTABLE: APBE 2020 - The 9th Asia-Pacific Biomass Energy Exhibition 2020
LOCATION;ENCODING=QUOTED-PRINTABLE: Guangzhou
DESCRIPTION;ENCODING=QUOTED-PRINTABLE: More Details£º=0D=0A
DTSTART:20200816T000000Z 
DTEND:20200818T000000Z 
END:VEVENT
END:VCALENDAR