 BEGIN:VCALENDAR
VERSION:1.0
PRODID:SSPCA Web Calendar
TZ:-07
BEGIN:VEVENT
ORGANIZER:MAILTO: wire@china.messefrankfurt.com
SUMMARY;ENCODING=QUOTED-PRINTABLE: Wire & Cable Guangzhou 2020 - Guangzhou International Wire, Cable and Accessories Fair 2020
LOCATION;ENCODING=QUOTED-PRINTABLE: Guangzhou
DESCRIPTION;ENCODING=QUOTED-PRINTABLE: More Details£º=0D=0A
DTSTART:20200527T000000Z 
DTEND:20200529T000000Z 
END:VEVENT
END:VCALENDAR